BEGIN:VCALENDAR
VERSION:2.0
PRODID:-//Kootenay Family Place - ECPv6.15.20//NONSGML v1.0//EN
CALSCALE:GREGORIAN
METHOD:PUBLISH
X-WR-CALNAME:Kootenay Family Place
X-ORIGINAL-URL:https://kootenayfamilyplace.org
X-WR-CALDESC:Events for Kootenay Family Place
REFRESH-INTERVAL;VALUE=DURATION:PT1H
X-Robots-Tag:noindex
X-PUBLISHED-TTL:PT1H
BEGIN:VTIMEZONE
TZID:America/Vancouver
BEGIN:DAYLIGHT
TZOFFSETFROM:-0800
TZOFFSETTO:-0700
TZNAME:PDT
DTSTART:20250309T100000
END:DAYLIGHT
BEGIN:STANDARD
TZOFFSETFROM:-0700
TZOFFSETTO:-0800
TZNAME:PST
DTSTART:20251102T090000
END:STANDARD
BEGIN:DAYLIGHT
TZOFFSETFROM:-0800
TZOFFSETTO:-0700
TZNAME:PDT
DTSTART:20260308T100000
END:DAYLIGHT
BEGIN:STANDARD
TZOFFSETFROM:-0700
TZOFFSETTO:-0800
TZNAME:PST
DTSTART:20261101T090000
END:STANDARD
BEGIN:DAYLIGHT
TZOFFSETFROM:-0800
TZOFFSETTO:-0700
TZNAME:PDT
DTSTART:20270314T100000
END:DAYLIGHT
BEGIN:STANDARD
TZOFFSETFROM:-0700
TZOFFSETTO:-0800
TZNAME:PST
DTSTART:20271107T090000
END:STANDARD
END:VTIMEZONE
BEGIN:VEVENT
DTSTART;TZID=America/Vancouver:20260126T100000
DTEND;TZID=America/Vancouver:20260126T120000
DTSTAMP:20260423T013621
CREATED:20260113T221348Z
LAST-MODIFIED:20260113T221348Z
UID:12629-1769421600-1769428800@kootenayfamilyplace.org
SUMMARY:Conversation Club
DESCRIPTION:
URL:https://kootenayfamilyplace.org/event/conversation-club-3/
END:VEVENT
BEGIN:VEVENT
DTSTART;TZID=America/Vancouver:20260127T100000
DTEND;TZID=America/Vancouver:20260127T123000
DTSTAMP:20260423T013621
CREATED:20260113T221440Z
LAST-MODIFIED:20260113T221440Z
UID:12631-1769508000-1769517000@kootenayfamilyplace.org
SUMMARY:Beautiful Beginnings
DESCRIPTION:
URL:https://kootenayfamilyplace.org/event/beautiful-beginnings-3/
END:VEVENT
BEGIN:VEVENT
DTSTART;VALUE=DATE:20260128
DTEND;VALUE=DATE:20260129
DTSTAMP:20260423T013621
CREATED:20251020T222324Z
LAST-MODIFIED:20260113T192306Z
UID:12472-1769558400-1769644799@kootenayfamilyplace.org
SUMMARY:No Program
DESCRIPTION:
URL:https://kootenayfamilyplace.org/event/no-program/
END:VEVENT
BEGIN:VEVENT
DTSTART;VALUE=DATE:20260128
DTEND;VALUE=DATE:20260129
DTSTAMP:20260423T013621
CREATED:20260113T221847Z
LAST-MODIFIED:20260113T221847Z
UID:12639-1769558400-1769644799@kootenayfamilyplace.org
SUMMARY:No Program
DESCRIPTION:
URL:https://kootenayfamilyplace.org/event/no-program-2/
END:VEVENT
BEGIN:VEVENT
DTSTART;TZID=America/Vancouver:20260129T100000
DTEND;TZID=America/Vancouver:20260129T120000
DTSTAMP:20260423T013621
CREATED:20260113T221936Z
LAST-MODIFIED:20260113T221936Z
UID:12641-1769680800-1769688000@kootenayfamilyplace.org
SUMMARY:Seven Secred Teachings
DESCRIPTION:
URL:https://kootenayfamilyplace.org/event/seven-secred-teachings-3/
END:VEVENT
BEGIN:VEVENT
DTSTART;TZID=America/Vancouver:20260130T100000
DTEND;TZID=America/Vancouver:20260130T120000
DTSTAMP:20260423T013621
CREATED:20260113T221610Z
LAST-MODIFIED:20260113T221610Z
UID:12635-1769767200-1769774400@kootenayfamilyplace.org
SUMMARY:Grandpals
DESCRIPTION:
URL:https://kootenayfamilyplace.org/event/grandpals-3/
END:VEVENT
BEGIN:VEVENT
DTSTART;TZID=America/Vancouver:20260220T100000
DTEND;TZID=America/Vancouver:20260220T120000
DTSTAMP:20260423T013621
CREATED:20251020T220935Z
LAST-MODIFIED:20260113T220658Z
UID:12463-1771581600-1771588800@kootenayfamilyplace.org
SUMMARY:French Storytelling-Les Petits Matins at Hobbit Hill
DESCRIPTION:Every third Friday of the month\, join Marie-Andrée Chenier at Kootenay Family Place\, in the Hobbit Hill space\, for a free French-language activity designed for children aged 0 to 5\, accompanied by a parent. \n📅 First session: Friday\, October 17\, from 10 AM to 12 PM\nUpcoming dates: November 21\, December 19\, January 16\, February 20\, March 20. \nThis is a wonderful opportunity for francophone families to meet\, share\, and have fun together!\n➡️ Spread the word to French-speaking families in Castlegar!
URL:https://kootenayfamilyplace.org/event/french-storytelling-les-petits-matins/
END:VEVENT
BEGIN:VEVENT
DTSTART;VALUE=DATE:20260128
DTEND;VALUE=DATE:20260129
DTSTAMP:20260423T013621
CREATED:20251020T222324Z
LAST-MODIFIED:20260113T192306Z
UID:12472-1769558400-1769644799@kootenayfamilyplace.org
SUMMARY:No Program
DESCRIPTION:
URL:https://kootenayfamilyplace.org/event/no-program/
END:VEVENT
BEGIN:VEVENT
DTSTART;TZID=America/Vancouver:20260220T100000
DTEND;TZID=America/Vancouver:20260220T120000
DTSTAMP:20260423T013621
CREATED:20251020T220935Z
LAST-MODIFIED:20260113T220658Z
UID:12463-1771581600-1771588800@kootenayfamilyplace.org
SUMMARY:French Storytelling-Les Petits Matins at Hobbit Hill
DESCRIPTION:Every third Friday of the month\, join Marie-Andrée Chenier at Kootenay Family Place\, in the Hobbit Hill space\, for a free French-language activity designed for children aged 0 to 5\, accompanied by a parent. \n📅 First session: Friday\, October 17\, from 10 AM to 12 PM\nUpcoming dates: November 21\, December 19\, January 16\, February 20\, March 20. \nThis is a wonderful opportunity for francophone families to meet\, share\, and have fun together!\n➡️ Spread the word to French-speaking families in Castlegar!
URL:https://kootenayfamilyplace.org/event/french-storytelling-les-petits-matins/
END:VEVENT
BEGIN:VEVENT
DTSTART;VALUE=DATE:20260128
DTEND;VALUE=DATE:20260129
DTSTAMP:20260423T013621
CREATED:20251020T222324Z
LAST-MODIFIED:20260113T192306Z
UID:12472-1769558400-1769644799@kootenayfamilyplace.org
SUMMARY:No Program
DESCRIPTION:
URL:https://kootenayfamilyplace.org/event/no-program/
END:VEVENT
END:VCALENDAR